BEGIN:VCALENDAR
VERSION:2.0
PRODID:-//TYPO3/NONSGML News system (news)//EN
CALSCALE:GREGORIAN
METHOD:PUBLISH
BEGIN:VEVENT
UID:news-110723@feistritz-rosental.gv.at

DTSTAMP:20260422T183445Z



DTSTART;TZID=Europe/Vienna:20260531T100000
DTEND;TZID=Europe/Vienna:20260531T000000

SUMMARY:Zeltfest der FF Suetschach
DESCRIPTION:

LOCATION:Rüsthaus Suetschach 


END:VEVENT
END:VCALENDAR
