BEGIN:VCALENDAR
VERSION:2.0
PRODID:-//TYPO3/NONSGML News system (news)//EN
CALSCALE:GREGORIAN
METHOD:PUBLISH
BEGIN:VEVENT
UID:news-110724@feistritz-rosental.gv.at

DTSTAMP:20260424T101323Z



DTSTART;TZID=Europe/Vienna:20260606T190000
DTEND;TZID=Europe/Vienna:20260606T000000

SUMMARY:Literarisch-musikalischer Abend: V opdrto / Ins offene
DESCRIPTION:

LOCATION:k &amp; k Kulturni in komunikacijski center | Kultur und Kommunikationszentrum


END:VEVENT
END:VCALENDAR
