BEGIN:VCALENDAR
VERSION:2.0
PRODID:-//TYPO3/NONSGML News system (news)//EN
CALSCALE:GREGORIAN
METHOD:PUBLISH
BEGIN:VEVENT
UID:news-110716@feistritz-rosental.gv.at

DTSTAMP:20260422T183310Z



DTSTART;TZID=Europe/Vienna:20260501T113000
DTEND;TZID=Europe/Vienna:20260501T000000

SUMMARY:Maibaumkraxln der DG Suetschach 
DESCRIPTION:

LOCATION:Dorfplatz Suetschach


END:VEVENT
END:VCALENDAR
