BEGIN:VCALENDAR
VERSION:2.0
PRODID:-//TYPO3/NONSGML News system (news)//EN
CALSCALE:GREGORIAN
METHOD:PUBLISH
BEGIN:VEVENT
UID:news-110711@feistritz-rosental.gv.at

DTSTAMP:20260422T165126Z



DTSTART;TZID=Europe/Vienna:20260424T190000
DTEND;TZID=Europe/Vienna:20260424T000000

SUMMARY:Vernissage: Klementina Golija
DESCRIPTION:

LOCATION:k &amp; k Kulturni in  komunikacijski center | Kultur und Kommunikationszentrum


END:VEVENT
END:VCALENDAR
