BEGIN:VCALENDAR
VERSION:2.0
PRODID:-//TYPO3/NONSGML News system (news)//EN
CALSCALE:GREGORIAN
METHOD:PUBLISH
BEGIN:VEVENT
UID:news-115855@feistritz-rosental.gv.at

DTSTAMP:20260422T183143Z



DTSTART;TZID=Europe/Vienna:20260622T100000
DTEND;TZID=Europe/Vienna:20260622T120000

SUMMARY:Lots:innen on Tour in der Region 
DESCRIPTION:

LOCATION:Gemeindeamt Feistritz im Rosental 


END:VEVENT
END:VCALENDAR
