BEGIN:VCALENDAR
VERSION:2.0
PRODID:-//TYPO3/NONSGML News system (news)//EN
CALSCALE:GREGORIAN
METHOD:PUBLISH
BEGIN:VEVENT
UID:news-110719@feistritz-rosental.gv.at

DTSTAMP:20260422T184111Z



DTSTART;TZID=Europe/Vienna:20260501T100000
DTEND;TZID=Europe/Vienna:20260501T000000

SUMMARY:1. Mai -Matinee – 1. Majska Matineja
DESCRIPTION:

LOCATION:k &amp; k Kulturni in komunikacijski center | Kultur und Kommunikationszentrum


END:VEVENT
END:VCALENDAR
