BEGIN:VCALENDAR
VERSION:2.0
PRODID:-//TYPO3/NONSGML News system (news)//EN
CALSCALE:GREGORIAN
METHOD:PUBLISH
BEGIN:VEVENT
UID:news-111389@feistritz-rosental.gv.at

DTSTAMP:20260422T183310Z



DTSTART;TZID=Europe/Vienna:20260720T000000
DTEND;TZID=Europe/Vienna:20260720T000000

SUMMARY:Englische Sprachwoche - Get Academy
DESCRIPTION:

LOCATION:Volksschule Feistritz im Rosental


END:VEVENT
END:VCALENDAR
