BEGIN:VCALENDAR
VERSION:2.0
PRODID:-//TYPO3/NONSGML News system (news)//EN
CALSCALE:GREGORIAN
METHOD:PUBLISH
BEGIN:VEVENT
UID:news-115869@feistritz-rosental.gv.at

DTSTAMP:20260422T164839Z



DTSTART;TZID=Europe/Vienna:20260426T133000
DTEND;TZID=Europe/Vienna:20260426T150000

SUMMARY:Stammtisch für pflegende Angehörige 
DESCRIPTION:

LOCATION:Mehrzweckhaus der Gemeinde Maria Rain, Schulweg 18


END:VEVENT
END:VCALENDAR
