BEGIN:VCALENDAR
VERSION:2.0
PRODID:-//TYPO3/NONSGML News system (news)//EN
CALSCALE:GREGORIAN
METHOD:PUBLISH
BEGIN:VEVENT
UID:news-115560@feistritz-rosental.gv.at

DTSTAMP:20260420T043807Z



DTSTART;TZID=Europe/Vienna:20260424T100000
DTEND;TZID=Europe/Vienna:20260424T140000

SUMMARY:Größte Messe für E- Nutzfahrzeuge Kärnten für Betriebe und Gemeinden 
DESCRIPTION:

LOCATION:Bauernmarktgelände Faak am See


END:VEVENT
END:VCALENDAR
